BEGIN:VCALENDAR
VERSION:2.0
PRODID:-//VT PBIS - ECPv6.15.18//NONSGML v1.0//EN
CALSCALE:GREGORIAN
METHOD:PUBLISH
X-WR-CALNAME:VT PBIS
X-ORIGINAL-URL:https://pbisvermont.org
X-WR-CALDESC:Events for VT PBIS
REFRESH-INTERVAL;VALUE=DURATION:PT1H
X-Robots-Tag:noindex
X-PUBLISHED-TTL:PT1H
BEGIN:VTIMEZONE
TZID:America/New_York
BEGIN:DAYLIGHT
TZOFFSETFROM:-0500
TZOFFSETTO:-0400
TZNAME:EDT
DTSTART:20190310T070000
END:DAYLIGHT
BEGIN:STANDARD
TZOFFSETFROM:-0400
TZOFFSETTO:-0500
TZNAME:EST
DTSTART:20191103T060000
END:STANDARD
BEGIN:DAYLIGHT
TZOFFSETFROM:-0500
TZOFFSETTO:-0400
TZNAME:EDT
DTSTART:20200308T070000
END:DAYLIGHT
BEGIN:STANDARD
TZOFFSETFROM:-0400
TZOFFSETTO:-0500
TZNAME:EST
DTSTART:20201101T060000
END:STANDARD
BEGIN:DAYLIGHT
TZOFFSETFROM:-0500
TZOFFSETTO:-0400
TZNAME:EDT
DTSTART:20210314T070000
END:DAYLIGHT
BEGIN:STANDARD
TZOFFSETFROM:-0400
TZOFFSETTO:-0500
TZNAME:EST
DTSTART:20211107T060000
END:STANDARD
END:VTIMEZONE
BEGIN:VEVENT
DTSTART;TZID=America/New_York:20200812T100000
DTEND;TZID=America/New_York:20200812T120000
DTSTAMP:20260423T191526
CREATED:20200721T185730Z
LAST-MODIFIED:20200722T185610Z
UID:1499-1597226400-1597233600@pbisvermont.org
SUMMARY:Crisis Prevention Forum and Discussion: Returning to School In the COVID-19 Era
DESCRIPTION:As we plan to return to school in whatever form that may take\, supporting our most vulnerable students who have impulse control issues and social\, emotional\, and behavioral concerns will present educators with a variety of new challenges. \nHow do we prepare to support these students and plan for and respond to those challenges in creative ways? How do we maintain a safe environment for staff and students? How do we meet the requirements of Rule 4500 when working with students whose behavior may require physical management or seclusion? \nThis web-based forum will provide an opportunity for facilitated small group discussions. We will ask participants to share their thinking and plans. It will primarily be an opportunity for discussion\, sharing of ideas\, and problem solving by educators from schools throughout Vermont. \n \n\nRegister Here
URL:https://pbisvermont.org/professional-development-calendar/crisis-prevention-forum-and-discussion-returning-to-school-in-the-covid-19-era/
LOCATION:Distance Learning\, VT\, United States
END:VEVENT
END:VCALENDAR