BEGIN:VCALENDAR
VERSION:2.0
PRODID:-//VT PBIS - ECPv6.15.18//NONSGML v1.0//EN
CALSCALE:GREGORIAN
METHOD:PUBLISH
X-ORIGINAL-URL:https://pbisvermont.org
X-WR-CALDESC:Events for VT PBIS
REFRESH-INTERVAL;VALUE=DURATION:PT1H
X-Robots-Tag:noindex
X-PUBLISHED-TTL:PT1H
BEGIN:VTIMEZONE
TZID:America/New_York
BEGIN:DAYLIGHT
TZOFFSETFROM:-0500
TZOFFSETTO:-0400
TZNAME:EDT
DTSTART:20200308T070000
END:DAYLIGHT
BEGIN:STANDARD
TZOFFSETFROM:-0400
TZOFFSETTO:-0500
TZNAME:EST
DTSTART:20201101T060000
END:STANDARD
BEGIN:DAYLIGHT
TZOFFSETFROM:-0500
TZOFFSETTO:-0400
TZNAME:EDT
DTSTART:20210314T070000
END:DAYLIGHT
BEGIN:STANDARD
TZOFFSETFROM:-0400
TZOFFSETTO:-0500
TZNAME:EST
DTSTART:20211107T060000
END:STANDARD
BEGIN:DAYLIGHT
TZOFFSETFROM:-0500
TZOFFSETTO:-0400
TZNAME:EDT
DTSTART:20220313T070000
END:DAYLIGHT
BEGIN:STANDARD
TZOFFSETFROM:-0400
TZOFFSETTO:-0500
TZNAME:EST
DTSTART:20221106T060000
END:STANDARD
END:VTIMEZONE
BEGIN:VEVENT
DTSTART;TZID=America/New_York:20210921T090000
DTEND;TZID=America/New_York:20210921T110000
DTSTAMP:20260423T025401
CREATED:20210720T191140Z
LAST-MODIFIED:20210720T191140Z
UID:1990-1632214800-1632222000@pbisvermont.org
SUMMARY:CPI Part I - Webinar
DESCRIPTION:This two-hour virtual training will provide the foundational de-escalation skills for providing care\, welfare\, safety\, and security of everyone involved in a crisis. Participants will learn the skills to safely respond to various levels of risk behavior while balancing responsibilities of care. For those individuals seeking CPI certification or re-certification\, this session will provide the foundational training hours that will be followed up with 5.5 hours of site-based physical safety and holding support skills on October 19th. Register for one or both trainings. \nWho should attend? While all coordinators are welcome\, this webinar is especially useful for new VTPBIS SU/SD and School Coordinators. \n\n\nRegister Here
URL:https://pbisvermont.org/professional-development-calendar/cpi-part-i-webinar/
LOCATION:Distance Learning\, VT\, United States
END:VEVENT
END:VCALENDAR