BEGIN:VCALENDAR
VERSION:2.0
PRODID:-//VT PBIS - ECPv6.15.18//NONSGML v1.0//EN
CALSCALE:GREGORIAN
METHOD:PUBLISH
X-WR-CALNAME:VT PBIS
X-ORIGINAL-URL:https://pbisvermont.org
X-WR-CALDESC:Events for VT PBIS
REFRESH-INTERVAL;VALUE=DURATION:PT1H
X-Robots-Tag:noindex
X-PUBLISHED-TTL:PT1H
BEGIN:VTIMEZONE
TZID:America/New_York
BEGIN:DAYLIGHT
TZOFFSETFROM:-0500
TZOFFSETTO:-0400
TZNAME:EDT
DTSTART:20200308T070000
END:DAYLIGHT
BEGIN:STANDARD
TZOFFSETFROM:-0400
TZOFFSETTO:-0500
TZNAME:EST
DTSTART:20201101T060000
END:STANDARD
BEGIN:DAYLIGHT
TZOFFSETFROM:-0500
TZOFFSETTO:-0400
TZNAME:EDT
DTSTART:20210314T070000
END:DAYLIGHT
BEGIN:STANDARD
TZOFFSETFROM:-0400
TZOFFSETTO:-0500
TZNAME:EST
DTSTART:20211107T060000
END:STANDARD
BEGIN:DAYLIGHT
TZOFFSETFROM:-0500
TZOFFSETTO:-0400
TZNAME:EDT
DTSTART:20220313T070000
END:DAYLIGHT
BEGIN:STANDARD
TZOFFSETFROM:-0400
TZOFFSETTO:-0500
TZNAME:EST
DTSTART:20221106T060000
END:STANDARD
END:VTIMEZONE
BEGIN:VEVENT
DTSTART;TZID=America/New_York:20211007T090000
DTEND;TZID=America/New_York:20211007T150000
DTSTAMP:20260423T014830
CREATED:20200909T122043Z
LAST-MODIFIED:20210823T173326Z
UID:1581-1633597200-1633618800@pbisvermont.org
SUMMARY:2021 Annual VTPBIS Virtual Forum
DESCRIPTION:While we wanted to gather in person\, with the uncertainty of COVID this fall\, we have decided to hold this event virtually\, on Zoom. We are still excited to be with exploring\, new\, and experienced VTPBIS schools for a day of learning\, sharing\, and celebrating. \nPlease save your confirmation email after you register. You will receive links to all sessions on October 1st. \n\n\nRegister Here
URL:https://pbisvermont.org/professional-development-calendar/2021-annual-vtpbis-virtual-forum/
LOCATION:Distance Learning\, VT\, United States
END:VEVENT
END:VCALENDAR