BEGIN:VCALENDAR
VERSION:2.0
PRODID:-//VT PBIS - ECPv6.15.18//NONSGML v1.0//EN
CALSCALE:GREGORIAN
METHOD:PUBLISH
X-ORIGINAL-URL:https://pbisvermont.org
X-WR-CALDESC:Events for VT PBIS
REFRESH-INTERVAL;VALUE=DURATION:PT1H
X-Robots-Tag:noindex
X-PUBLISHED-TTL:PT1H
BEGIN:VTIMEZONE
TZID:America/New_York
BEGIN:DAYLIGHT
TZOFFSETFROM:-0500
TZOFFSETTO:-0400
TZNAME:EDT
DTSTART:20200308T070000
END:DAYLIGHT
BEGIN:STANDARD
TZOFFSETFROM:-0400
TZOFFSETTO:-0500
TZNAME:EST
DTSTART:20201101T060000
END:STANDARD
BEGIN:DAYLIGHT
TZOFFSETFROM:-0500
TZOFFSETTO:-0400
TZNAME:EDT
DTSTART:20210314T070000
END:DAYLIGHT
BEGIN:STANDARD
TZOFFSETFROM:-0400
TZOFFSETTO:-0500
TZNAME:EST
DTSTART:20211107T060000
END:STANDARD
BEGIN:DAYLIGHT
TZOFFSETFROM:-0500
TZOFFSETTO:-0400
TZNAME:EDT
DTSTART:20220313T070000
END:DAYLIGHT
BEGIN:STANDARD
TZOFFSETFROM:-0400
TZOFFSETTO:-0500
TZNAME:EST
DTSTART:20221106T060000
END:STANDARD
END:VTIMEZONE
BEGIN:VEVENT
DTSTART;TZID=America/New_York:20211022T090000
DTEND;TZID=America/New_York:20211022T110000
DTSTAMP:20260423T015022
CREATED:20200825T192551Z
LAST-MODIFIED:20211007T115749Z
UID:1565-1634893200-1634900400@pbisvermont.org
SUMMARY:Relationship Building & De-escalation Skills Webinar
DESCRIPTION:Description: This two-hour workshop focuses on relationship building\, de-escalation and conflict resolution skills needed by staff working with students who need targeted and intensive level supports. Participants will learn how to support students with self-defeating behaviors using applied behavior management skills and building positive restorative relationships. \nWho should attend? Individuals working with students who need targeted/intensive supports. \n\n\nRegister Here
URL:https://pbisvermont.org/professional-development-calendar/relationship-building-de-escalation-skills/
LOCATION:Distance Learning\, VT\, United States
END:VEVENT
END:VCALENDAR