BEGIN:VCALENDAR
VERSION:2.0
PRODID:-//VT PBIS - ECPv6.15.18//NONSGML v1.0//EN
CALSCALE:GREGORIAN
METHOD:PUBLISH
X-WR-CALNAME:VT PBIS
X-ORIGINAL-URL:https://pbisvermont.org
X-WR-CALDESC:Events for VT PBIS
REFRESH-INTERVAL;VALUE=DURATION:PT1H
X-Robots-Tag:noindex
X-PUBLISHED-TTL:PT1H
BEGIN:VTIMEZONE
TZID:America/New_York
BEGIN:DAYLIGHT
TZOFFSETFROM:-0500
TZOFFSETTO:-0400
TZNAME:EDT
DTSTART:20230312T070000
END:DAYLIGHT
BEGIN:STANDARD
TZOFFSETFROM:-0400
TZOFFSETTO:-0500
TZNAME:EST
DTSTART:20231105T060000
END:STANDARD
BEGIN:DAYLIGHT
TZOFFSETFROM:-0500
TZOFFSETTO:-0400
TZNAME:EDT
DTSTART:20240310T070000
END:DAYLIGHT
BEGIN:STANDARD
TZOFFSETFROM:-0400
TZOFFSETTO:-0500
TZNAME:EST
DTSTART:20241103T060000
END:STANDARD
BEGIN:DAYLIGHT
TZOFFSETFROM:-0500
TZOFFSETTO:-0400
TZNAME:EDT
DTSTART:20250309T070000
END:DAYLIGHT
BEGIN:STANDARD
TZOFFSETFROM:-0400
TZOFFSETTO:-0500
TZNAME:EST
DTSTART:20251102T060000
END:STANDARD
END:VTIMEZONE
BEGIN:VEVENT
DTSTART;TZID=America/New_York:20241101T090000
DTEND;TZID=America/New_York:20241101T110000
DTSTAMP:20260421T005626
CREATED:20240809T175149Z
LAST-MODIFIED:20240809T175154Z
UID:3052-1730451600-1730458800@pbisvermont.org
SUMMARY:Webinar: Understanding and Practicing Function-Based Thinking
DESCRIPTION:This webinar will give participants a foundational understanding of function-based thinking within a trauma-responsive framework. Participants will learn various functions of behavior and specific proactive and response strategies that are more likely to reduce the chances the student will engage in the interfering behavior again. Participants will explore ways to increase the likelihood of the student engaging in prosocial behaviors and have opportunities to share and collaborate with colleagues.  \nNOTE: This session introduces function-based thinking and is not a session on conducting functional behavioral assessments. \nWho Should Attend: Anyone who wants to understand and respond to students’ interfering behaviors. \n\n\nRegister Here
URL:https://pbisvermont.org/professional-development-calendar/webinar-understanding-and-practicing-function-based-thinking/
LOCATION:Virtual
ORGANIZER;CN="Anne Dubie":MAILTO:anne.dubie@uvm.edu
END:VEVENT
END:VCALENDAR