BEGIN:VCALENDAR
VERSION:2.0
PRODID:-//VT PBIS - ECPv6.15.18//NONSGML v1.0//EN
CALSCALE:GREGORIAN
METHOD:PUBLISH
X-WR-CALNAME:VT PBIS
X-ORIGINAL-URL:https://pbisvermont.org
X-WR-CALDESC:Events for VT PBIS
REFRESH-INTERVAL;VALUE=DURATION:PT1H
X-Robots-Tag:noindex
X-PUBLISHED-TTL:PT1H
BEGIN:VTIMEZONE
TZID:America/New_York
BEGIN:DAYLIGHT
TZOFFSETFROM:-0500
TZOFFSETTO:-0400
TZNAME:EDT
DTSTART:20240310T070000
END:DAYLIGHT
BEGIN:STANDARD
TZOFFSETFROM:-0400
TZOFFSETTO:-0500
TZNAME:EST
DTSTART:20241103T060000
END:STANDARD
BEGIN:DAYLIGHT
TZOFFSETFROM:-0500
TZOFFSETTO:-0400
TZNAME:EDT
DTSTART:20250309T070000
END:DAYLIGHT
BEGIN:STANDARD
TZOFFSETFROM:-0400
TZOFFSETTO:-0500
TZNAME:EST
DTSTART:20251102T060000
END:STANDARD
BEGIN:DAYLIGHT
TZOFFSETFROM:-0500
TZOFFSETTO:-0400
TZNAME:EDT
DTSTART:20260308T070000
END:DAYLIGHT
BEGIN:STANDARD
TZOFFSETFROM:-0400
TZOFFSETTO:-0500
TZNAME:EST
DTSTART:20261101T060000
END:STANDARD
END:VTIMEZONE
BEGIN:VEVENT
DTSTART;TZID=America/New_York:20250508T090000
DTEND;TZID=America/New_York:20250508T110000
DTSTAMP:20260420T164042
CREATED:20240919T165301Z
LAST-MODIFIED:20240919T165301Z
UID:3090-1746694800-1746702000@pbisvermont.org
SUMMARY:Webinar: Closing the Year with Compassion for Yourselves and Your Students
DESCRIPTION:The school year can be fraught with mixed emotions including happiness\, sadness\, excitement\, frustration\, and worry – all of which can contribute to the potential of becoming compassion weary. This webinar is designed to validate educators’ feelings\, honor their skills\, and highlight their positive impact on students. Utilizing reflection\, humor\, and inquiry\, participants will identify and use tools to celebrate the powerful impact vicarious resilience and collective care have on their strengths and endurance. This webinar will help educators refresh and energize their compassion to sustain them through the rest of the school year and beyond. \nWho Should Attend: \nSchool personnel including teachers\, paraeducators\, administrators\, specialists\, behavior interventionists\, school/mental health clinicians\, special educators\, and families/caregivers. \n\n\nRegister Here
URL:https://pbisvermont.org/professional-development-calendar/webinar-closing-the-year-with-compassion-for-yourselves-and-your-students/
LOCATION:Distance Learning\, VT\, United States
ORGANIZER;CN="Anne Dubie":MAILTO:anne.dubie@uvm.edu
END:VEVENT
END:VCALENDAR