BEGIN:VCALENDAR
VERSION:2.0
PRODID:-//VT PBIS - ECPv6.15.18//NONSGML v1.0//EN
CALSCALE:GREGORIAN
METHOD:PUBLISH
X-WR-CALNAME:VT PBIS
X-ORIGINAL-URL:https://pbisvermont.org
X-WR-CALDESC:Events for VT PBIS
REFRESH-INTERVAL;VALUE=DURATION:PT1H
X-Robots-Tag:noindex
X-PUBLISHED-TTL:PT1H
BEGIN:VTIMEZONE
TZID:America/New_York
BEGIN:DAYLIGHT
TZOFFSETFROM:-0500
TZOFFSETTO:-0400
TZNAME:EDT
DTSTART:20240310T070000
END:DAYLIGHT
BEGIN:STANDARD
TZOFFSETFROM:-0400
TZOFFSETTO:-0500
TZNAME:EST
DTSTART:20241103T060000
END:STANDARD
BEGIN:DAYLIGHT
TZOFFSETFROM:-0500
TZOFFSETTO:-0400
TZNAME:EDT
DTSTART:20250309T070000
END:DAYLIGHT
BEGIN:STANDARD
TZOFFSETFROM:-0400
TZOFFSETTO:-0500
TZNAME:EST
DTSTART:20251102T060000
END:STANDARD
BEGIN:DAYLIGHT
TZOFFSETFROM:-0500
TZOFFSETTO:-0400
TZNAME:EDT
DTSTART:20260308T070000
END:DAYLIGHT
BEGIN:STANDARD
TZOFFSETFROM:-0400
TZOFFSETTO:-0500
TZNAME:EST
DTSTART:20261101T060000
END:STANDARD
END:VTIMEZONE
BEGIN:VEVENT
DTSTART;TZID=America/New_York:20250812T090000
DTEND;TZID=America/New_York:20250812T150000
DTSTAMP:20260420T121509
CREATED:20250731T140733Z
LAST-MODIFIED:20250731T145544Z
UID:3236-1754989200-1755010800@pbisvermont.org
SUMMARY:Administrative Assistants: Building Bridges and Calming Conflict
DESCRIPTION:New This Year – Full-Day Training! \nDescription: \nSchool administrative assistants are likely the first people that students\, staff\, families/caregivers\, and other community members see when entering the building. On top of the day-to-day responsibilities (i.e.\, phones\, computers\, scheduling\, etc.)\, administrative assistants must effectively communicate with anyone who walks into the building. This workshop will provide an opportunity to enhance communication skills with the people they connect with all day\, every day. Relationship-building\, de-escalation\, and conflict-resolution strategies will be explored and practiced\, as well as collaborative problem-solving. \nWho Should Attend: \nSchool Administrative Assistants \nTime: \n9:00 AM to 3:00 PM (8:30 – 9:00 registration) \n\n\nRegister Here
URL:https://pbisvermont.org/professional-development-calendar/administrative-assistants-building-bridges-and-calming-conflict/
ORGANIZER;CN="Anne Dubie":MAILTO:anne.dubie@uvm.edu
END:VEVENT
END:VCALENDAR