BEGIN:VCALENDAR
VERSION:2.0
PRODID:-//VT PBIS - ECPv6.15.18//NONSGML v1.0//EN
CALSCALE:GREGORIAN
METHOD:PUBLISH
X-WR-CALNAME:VT PBIS
X-ORIGINAL-URL:https://pbisvermont.org
X-WR-CALDESC:Events for VT PBIS
REFRESH-INTERVAL;VALUE=DURATION:PT1H
X-Robots-Tag:noindex
X-PUBLISHED-TTL:PT1H
BEGIN:VTIMEZONE
TZID:America/New_York
BEGIN:DAYLIGHT
TZOFFSETFROM:-0500
TZOFFSETTO:-0400
TZNAME:EDT
DTSTART:20240310T070000
END:DAYLIGHT
BEGIN:STANDARD
TZOFFSETFROM:-0400
TZOFFSETTO:-0500
TZNAME:EST
DTSTART:20241103T060000
END:STANDARD
BEGIN:DAYLIGHT
TZOFFSETFROM:-0500
TZOFFSETTO:-0400
TZNAME:EDT
DTSTART:20250309T070000
END:DAYLIGHT
BEGIN:STANDARD
TZOFFSETFROM:-0400
TZOFFSETTO:-0500
TZNAME:EST
DTSTART:20251102T060000
END:STANDARD
BEGIN:DAYLIGHT
TZOFFSETFROM:-0500
TZOFFSETTO:-0400
TZNAME:EDT
DTSTART:20260308T070000
END:DAYLIGHT
BEGIN:STANDARD
TZOFFSETFROM:-0400
TZOFFSETTO:-0500
TZNAME:EST
DTSTART:20261101T060000
END:STANDARD
END:VTIMEZONE
BEGIN:VEVENT
DTSTART;TZID=America/New_York:20251014T083000
DTEND;TZID=America/New_York:20251014T153000
DTSTAMP:20260420T091914
CREATED:20250827T143134Z
LAST-MODIFIED:20250829T134458Z
UID:3355-1760430600-1760455800@pbisvermont.org
SUMMARY:2025 VTPBIS Annual Forum
DESCRIPTION:Description: \nInspiring Learning through Connection\, Engagement\, and ActionJoin us for the 2025 Annual VTPBIS Forum for a day of learning and to attend workshops of your choice\, celebrate and network with colleagues\, and so much more! To see all workshop offerings\, please view the Forum Agenda. \nWho Should Attend:  \nSchool teams or individuals who are looking to learn more about social\, emotional\, behavioral\, and mental health supports for all\, within the PBIS framework\, and schools that are interested in exploring PBIS implementation are all welcomed to attend. \n(Deadline to register is 9/30/2025) \n\n\nRegister Here
URL:https://pbisvermont.org/professional-development-calendar/2025-vtpbis-annual-forum/
LOCATION:Killington Grand Hotel\, 228 East Mtn. Road\, Killington\, VT\, 05751\, United States
ORGANIZER;CN="Anne Dubie":MAILTO:anne.dubie@uvm.edu
END:VEVENT
END:VCALENDAR