BEGIN:VCALENDAR
VERSION:2.0
PRODID:-//VT PBIS - ECPv6.15.18//NONSGML v1.0//EN
CALSCALE:GREGORIAN
METHOD:PUBLISH
X-WR-CALNAME:VT PBIS
X-ORIGINAL-URL:https://pbisvermont.org
X-WR-CALDESC:Events for VT PBIS
REFRESH-INTERVAL;VALUE=DURATION:PT1H
X-Robots-Tag:noindex
X-PUBLISHED-TTL:PT1H
BEGIN:VTIMEZONE
TZID:America/New_York
BEGIN:DAYLIGHT
TZOFFSETFROM:-0500
TZOFFSETTO:-0400
TZNAME:EDT
DTSTART:20240310T070000
END:DAYLIGHT
BEGIN:STANDARD
TZOFFSETFROM:-0400
TZOFFSETTO:-0500
TZNAME:EST
DTSTART:20241103T060000
END:STANDARD
BEGIN:DAYLIGHT
TZOFFSETFROM:-0500
TZOFFSETTO:-0400
TZNAME:EDT
DTSTART:20250309T070000
END:DAYLIGHT
BEGIN:STANDARD
TZOFFSETFROM:-0400
TZOFFSETTO:-0500
TZNAME:EST
DTSTART:20251102T060000
END:STANDARD
BEGIN:DAYLIGHT
TZOFFSETFROM:-0500
TZOFFSETTO:-0400
TZNAME:EDT
DTSTART:20260308T070000
END:DAYLIGHT
BEGIN:STANDARD
TZOFFSETFROM:-0400
TZOFFSETTO:-0500
TZNAME:EST
DTSTART:20261101T060000
END:STANDARD
END:VTIMEZONE
BEGIN:VEVENT
DTSTART;TZID=America/New_York:20251015T090000
DTEND;TZID=America/New_York:20251015T150000
DTSTAMP:20260420T091915
CREATED:20250820T135517Z
LAST-MODIFIED:20250820T135517Z
UID:3332-1760518800-1760540400@pbisvermont.org
SUMMARY:Supported Work-Day for School/SU/SD Teams
DESCRIPTION:NEW! \nDescription: \nIs your team trying to find time to work on an action plan you’ve created to support the social\, emotional\, behavioral learning\, and well-being of your school community? Maybe you’re hoping to make progress on your school or SU/SD Safe and Healthy Schools goal\, the plan your team created at this year’s BEST/VTmtss Summer Institute\, or perhaps your PBIS Action Plan? Whatever plan you are working on\, we are offering your team some dedicated\, focused team time with this new Supported Work-Day opportunity! \nYou’ve always asked us for more team time and we’ve listened! Bring your team\, create your own agenda and focus for the day\, and work at your own pace alongside other enthusiastic teams from across Vermont. Tailored coaching support will be available throughout the day from BEST Project coaches and trainers. \nWho Should Attend: \nSchool/SU/SD Teams \nTime: \n9:00 AM – 3:00 PM (8:30 AM – 9:00 AM check-in) \n\n\nRegister Here
URL:https://pbisvermont.org/professional-development-calendar/supported-work-day-for-school-su-sd-teams/
LOCATION:Killington Grand Hotel\, 228 East Mtn. Road\, Killington\, VT\, 05751\, United States
ORGANIZER;CN="Anne Dubie":MAILTO:anne.dubie@uvm.edu
END:VEVENT
END:VCALENDAR