BEGIN:VCALENDAR
VERSION:2.0
PRODID:-//VT PBIS - ECPv6.15.18//NONSGML v1.0//EN
CALSCALE:GREGORIAN
METHOD:PUBLISH
X-ORIGINAL-URL:https://pbisvermont.org
X-WR-CALDESC:Events for VT PBIS
REFRESH-INTERVAL;VALUE=DURATION:PT1H
X-Robots-Tag:noindex
X-PUBLISHED-TTL:PT1H
BEGIN:VTIMEZONE
TZID:America/New_York
BEGIN:DAYLIGHT
TZOFFSETFROM:-0500
TZOFFSETTO:-0400
TZNAME:EDT
DTSTART:20240310T070000
END:DAYLIGHT
BEGIN:STANDARD
TZOFFSETFROM:-0400
TZOFFSETTO:-0500
TZNAME:EST
DTSTART:20241103T060000
END:STANDARD
BEGIN:DAYLIGHT
TZOFFSETFROM:-0500
TZOFFSETTO:-0400
TZNAME:EDT
DTSTART:20250309T070000
END:DAYLIGHT
BEGIN:STANDARD
TZOFFSETFROM:-0400
TZOFFSETTO:-0500
TZNAME:EST
DTSTART:20251102T060000
END:STANDARD
BEGIN:DAYLIGHT
TZOFFSETFROM:-0500
TZOFFSETTO:-0400
TZNAME:EDT
DTSTART:20260308T070000
END:DAYLIGHT
BEGIN:STANDARD
TZOFFSETFROM:-0400
TZOFFSETTO:-0500
TZNAME:EST
DTSTART:20261101T060000
END:STANDARD
END:VTIMEZONE
BEGIN:VEVENT
DTSTART;TZID=America/New_York:20251107T090000
DTEND;TZID=America/New_York:20251107T153000
DTSTAMP:20260420T075740
CREATED:20250821T144629Z
LAST-MODIFIED:20250821T144629Z
UID:3341-1762506000-1762529400@pbisvermont.org
SUMMARY:Foundations of Trust: Relationship-Based Approaches to De-escalation
DESCRIPTION:Description: \nAre you looking to enhance your toolkit of proactive and responsive de-escalation strategies? Participants will learn practical strategies necessary to ensure a safe learning environment where the social\, emotional\, and behavioral well-being of all students and staff is maintained. Participants will examine strategies for building and maintaining positive and trusting relationships; understand the different stages of the Escalation/Crisis Cycle; identify where students are on the escalation continuum and how to respond; and learn effective communication strategies and scripts to minimize interfering behaviors. \nWho Should Attend: \nAll educators (i.e.\, classroom teachers\, paraeducators\, special educators\, etc.) who are interested in building their toolkit of proactive and effective de-escalation strategies that build on trust. \nDate and Time: \nFriday\, November 7\, 2025\, 9:00 AM – 3:30 PM (check-in\, 8:30 AM – 9:00 AM) \n\n\nRegister Here
URL:https://pbisvermont.org/professional-development-calendar/foundations-of-trust-relationship-based-approaches-to-de-escalation/
LOCATION:Best Western Plus\, 45 Blush Hill Rd.\, Waterbury\, 05676
ORGANIZER;CN="Anne Dubie":MAILTO:anne.dubie@uvm.edu
END:VEVENT
END:VCALENDAR