BEGIN:VCALENDAR
VERSION:2.0
PRODID:-//VT PBIS - ECPv6.15.18//NONSGML v1.0//EN
CALSCALE:GREGORIAN
METHOD:PUBLISH
X-WR-CALNAME:VT PBIS
X-ORIGINAL-URL:https://pbisvermont.org
X-WR-CALDESC:Events for VT PBIS
REFRESH-INTERVAL;VALUE=DURATION:PT1H
X-Robots-Tag:noindex
X-PUBLISHED-TTL:PT1H
BEGIN:VTIMEZONE
TZID:America/New_York
BEGIN:DAYLIGHT
TZOFFSETFROM:-0500
TZOFFSETTO:-0400
TZNAME:EDT
DTSTART:20170312T070000
END:DAYLIGHT
BEGIN:STANDARD
TZOFFSETFROM:-0400
TZOFFSETTO:-0500
TZNAME:EST
DTSTART:20171105T060000
END:STANDARD
BEGIN:DAYLIGHT
TZOFFSETFROM:-0500
TZOFFSETTO:-0400
TZNAME:EDT
DTSTART:20180311T070000
END:DAYLIGHT
BEGIN:STANDARD
TZOFFSETFROM:-0400
TZOFFSETTO:-0500
TZNAME:EST
DTSTART:20181104T060000
END:STANDARD
BEGIN:DAYLIGHT
TZOFFSETFROM:-0500
TZOFFSETTO:-0400
TZNAME:EDT
DTSTART:20190310T070000
END:DAYLIGHT
BEGIN:STANDARD
TZOFFSETFROM:-0400
TZOFFSETTO:-0500
TZNAME:EST
DTSTART:20191103T060000
END:STANDARD
BEGIN:DAYLIGHT
TZOFFSETFROM:-0500
TZOFFSETTO:-0400
TZNAME:EDT
DTSTART:20200308T070000
END:DAYLIGHT
BEGIN:STANDARD
TZOFFSETFROM:-0400
TZOFFSETTO:-0500
TZNAME:EST
DTSTART:20201101T060000
END:STANDARD
END:VTIMEZONE
BEGIN:VEVENT
DTSTART;TZID=America/New_York:20190207T090000
DTEND;TZID=America/New_York:20190207T100000
DTSTAMP:20260420T165247
CREATED:20171214T234028Z
LAST-MODIFIED:20181212T081635Z
UID:463-1549530000-1549533600@pbisvermont.org
SUMMARY:VTPBIS Office Hours
DESCRIPTION:Announcing VTPBIS Office Hours!  We are pleased to offer you this new web-based opportunity to share and learn about key issues and challenges in implementing PBIS at the Intensive Level.  If your school team has been trained at the Intensive Level\, these 60 minute sessions may be of interest to you.  The first twenty minutes will be devoted to a presentation about a problem or practice that is important to effective intensive level implementation. Participants will have the opportunity to listen\, ask questions (which we hope to answer on the spot)\, and share ideas with each other.  The remaining time will provide an opportunity for you to raise any questions or issues you may have about student level or systems level implementation.  We will provide guidance and structure for a supportive\, confidential dialogue among colleagues.  \nWe hope you will consider joining us for the first VTPBIS Office Hours on Friday\, February 7\, 2019\, from 9:00 – 10:00.  The featured topic for this session will be: TBD \nQuestions?   Contact Sherry Schoenberg at sherry.schoenberg@uvm.edu. \n\n\nRegister for the Training
URL:https://pbisvermont.org/professional-development-calendar/vtpbis-office-hours/
END:VEVENT
BEGIN:VEVENT
DTSTART;TZID=America/New_York:20181113T083000
DTEND;TZID=America/New_York:20181113T153000
DTSTAMP:20260420T165247
CREATED:20180615T233723Z
LAST-MODIFIED:20180615T233723Z
UID:642-1542097800-1542123000@pbisvermont.org
SUMMARY:Understanding Trauma within a PBIS Framework
DESCRIPTION:This training will provide an overview of the impact developmental trauma has on childhood development across multiple domains including learning and cognition. Strategies for identifying and supporting children who have experienced developmental trauma at all three tiers of support will be presented. Participants will improve their understanding of how to create a learning environment that is trauma informed and how to align these efforts within a multi-tiered framework. \nWho should attend? School personnel including\, teachers\, Para educators\, administrators\, specialists\, behavior interventionists\, school/mental health clinicians\, others. \n\n\nRegister for the Training
URL:https://pbisvermont.org/professional-development-calendar/understanding-trauma-within-a-pbis-framework/
LOCATION:Commodores Inn\, Stowe
END:VEVENT
END:VCALENDAR