BEGIN:VCALENDAR
VERSION:2.0
PRODID:-//VT PBIS - ECPv6.15.18//NONSGML v1.0//EN
CALSCALE:GREGORIAN
METHOD:PUBLISH
X-WR-CALNAME:VT PBIS
X-ORIGINAL-URL:https://pbisvermont.org
X-WR-CALDESC:Events for VT PBIS
REFRESH-INTERVAL;VALUE=DURATION:PT1H
X-Robots-Tag:noindex
X-PUBLISHED-TTL:PT1H
BEGIN:VTIMEZONE
TZID:America/New_York
BEGIN:DAYLIGHT
TZOFFSETFROM:-0500
TZOFFSETTO:-0400
TZNAME:EDT
DTSTART:20190310T070000
END:DAYLIGHT
BEGIN:STANDARD
TZOFFSETFROM:-0400
TZOFFSETTO:-0500
TZNAME:EST
DTSTART:20191103T060000
END:STANDARD
BEGIN:DAYLIGHT
TZOFFSETFROM:-0500
TZOFFSETTO:-0400
TZNAME:EDT
DTSTART:20200308T070000
END:DAYLIGHT
BEGIN:STANDARD
TZOFFSETFROM:-0400
TZOFFSETTO:-0500
TZNAME:EST
DTSTART:20201101T060000
END:STANDARD
BEGIN:DAYLIGHT
TZOFFSETFROM:-0500
TZOFFSETTO:-0400
TZNAME:EDT
DTSTART:20210314T070000
END:DAYLIGHT
BEGIN:STANDARD
TZOFFSETFROM:-0400
TZOFFSETTO:-0500
TZNAME:EST
DTSTART:20211107T060000
END:STANDARD
END:VTIMEZONE
BEGIN:VEVENT
DTSTART;TZID=America/New_York:20201028T090000
DTEND;TZID=America/New_York:20201028T120000
DTSTAMP:20260423T152249
CREATED:20200825T192909Z
LAST-MODIFIED:20200825T192909Z
UID:1566-1603875600-1603886400@pbisvermont.org
SUMMARY:Restorative Practices within MTSS
DESCRIPTION:For over a decade\, Vermont schools have been building a multi-tiered system of supports framework for social and academic achievement. The interest around the use of restorative approaches nationally and in Vermont schools continues to grow. A restorative approach involves principle-based processes and practices that can be applied to help things go right as well as respond when things go wrong. This whole-school approach links well within the Multi-Tiered System of Support (MTSS) framework. This workshop will serve as an introduction to aligning PBIS with Restorative Practices. Participants will recall their current understanding of key elements of restorative approaches and PBIS; deepen their understanding of restorative practices at all three tiers with a focus on application at the universal level; learn when and when not to use restorative practices; and learn how to apply a restorative approach to their existing PBIS framework. Fidelity and outcomes measures will be introduced.   Who should attend? VTPBIS Leadership Teams including school administrators and PBIS Coordinators at the school and/or SU/SD level \n\n\nRegister Here
URL:https://pbisvermont.org/professional-development-calendar/restorative-practices-within-mtss-2/
LOCATION:Distance Learning\, VT\, United States
END:VEVENT
END:VCALENDAR