BEGIN:VCALENDAR
VERSION:2.0
PRODID:-//VT PBIS - ECPv6.15.18//NONSGML v1.0//EN
CALSCALE:GREGORIAN
METHOD:PUBLISH
X-ORIGINAL-URL:https://pbisvermont.org
X-WR-CALDESC:Events for VT PBIS
REFRESH-INTERVAL;VALUE=DURATION:PT1H
X-Robots-Tag:noindex
X-PUBLISHED-TTL:PT1H
BEGIN:VTIMEZONE
TZID:America/New_York
BEGIN:DAYLIGHT
TZOFFSETFROM:-0500
TZOFFSETTO:-0400
TZNAME:EDT
DTSTART:20200308T070000
END:DAYLIGHT
BEGIN:STANDARD
TZOFFSETFROM:-0400
TZOFFSETTO:-0500
TZNAME:EST
DTSTART:20201101T060000
END:STANDARD
BEGIN:DAYLIGHT
TZOFFSETFROM:-0500
TZOFFSETTO:-0400
TZNAME:EDT
DTSTART:20210314T070000
END:DAYLIGHT
BEGIN:STANDARD
TZOFFSETFROM:-0400
TZOFFSETTO:-0500
TZNAME:EST
DTSTART:20211107T060000
END:STANDARD
BEGIN:DAYLIGHT
TZOFFSETFROM:-0500
TZOFFSETTO:-0400
TZNAME:EDT
DTSTART:20220313T070000
END:DAYLIGHT
BEGIN:STANDARD
TZOFFSETFROM:-0400
TZOFFSETTO:-0500
TZNAME:EST
DTSTART:20221106T060000
END:STANDARD
END:VTIMEZONE
BEGIN:VEVENT
DTSTART;TZID=America/New_York:20210810T090000
DTEND;TZID=America/New_York:20210810T100000
DTSTAMP:20260423T025359
CREATED:20210618T190844Z
LAST-MODIFIED:20210618T190844Z
UID:1969-1628586000-1628589600@pbisvermont.org
SUMMARY:Understanding Universal Screening for Social\, Emotional and Behavioral Risks and Strengths and Key Considerations for Returning to School Webinar
DESCRIPTION:Description:This webinar will provide an overview of the benefits of Universal Screening to identify social\, emotional\, behavioral risks and strengths. We will explore how screening promotes early identification of children at risk\, the systems needed to implement Universal Screening\, and the process of matching results with proactive and preventative practices. We will explore a types of systematic screening tools and resources and informal screenings and surveys that help to identify student needs around their well-being as well as seek input from all stakeholders. Who should attend:Individuals who are members of school or SU/SD leadership teams\, including teachers\, school counselors\, administrators\, special education staff\, school psychologists\, and family representatives. \n\n\nRegister Here
URL:https://pbisvermont.org/professional-development-calendar/understanding-universal-screening-for-social-emotional-and-behavioral-risks-and-strengths-and-key-considerations-for-returning-to-school-webinar/
LOCATION:Distance Learning\, VT\, United States
END:VEVENT
BEGIN:VEVENT
DTSTART;TZID=America/New_York:20210812T090000
DTEND;TZID=America/New_York:20210812T100000
DTSTAMP:20260423T025359
CREATED:20210618T191448Z
LAST-MODIFIED:20210618T191448Z
UID:1971-1628758800-1628762400@pbisvermont.org
SUMMARY:Social Emotional Learning\, Wellness and Mental Health Considerations for the Fall Webinar
DESCRIPTION:Description:As schools are preparing for the fall\, it will be important to keep social emotional learning (SEL) and wellness at the forefront of plans. This webinar will explore how to keep the focus on relationship building\, key SEL skills for adults and youth\, how to integrate SEL teaching into academic content\, and how to build a culture of wellness. There will be an opportunity for participants to share how they are keeping the focus on SEL and wellness at their schools. \n\n\nRegister Here
URL:https://pbisvermont.org/professional-development-calendar/social-emotional-learning-wellness-and-mental-health-considerations-for-the-fall-webinar/
LOCATION:Distance Learning\, VT\, United States
END:VEVENT
END:VCALENDAR