BEGIN:VCALENDAR
VERSION:2.0
PRODID:-//VT PBIS - ECPv6.15.18//NONSGML v1.0//EN
CALSCALE:GREGORIAN
METHOD:PUBLISH
X-ORIGINAL-URL:https://pbisvermont.org
X-WR-CALDESC:Events for VT PBIS
REFRESH-INTERVAL;VALUE=DURATION:PT1H
X-Robots-Tag:noindex
X-PUBLISHED-TTL:PT1H
BEGIN:VTIMEZONE
TZID:America/New_York
BEGIN:DAYLIGHT
TZOFFSETFROM:-0500
TZOFFSETTO:-0400
TZNAME:EDT
DTSTART:20230312T070000
END:DAYLIGHT
BEGIN:STANDARD
TZOFFSETFROM:-0400
TZOFFSETTO:-0500
TZNAME:EST
DTSTART:20231105T060000
END:STANDARD
BEGIN:DAYLIGHT
TZOFFSETFROM:-0500
TZOFFSETTO:-0400
TZNAME:EDT
DTSTART:20240310T070000
END:DAYLIGHT
BEGIN:STANDARD
TZOFFSETFROM:-0400
TZOFFSETTO:-0500
TZNAME:EST
DTSTART:20241103T060000
END:STANDARD
BEGIN:DAYLIGHT
TZOFFSETFROM:-0500
TZOFFSETTO:-0400
TZNAME:EDT
DTSTART:20250309T070000
END:DAYLIGHT
BEGIN:STANDARD
TZOFFSETFROM:-0400
TZOFFSETTO:-0500
TZNAME:EST
DTSTART:20251102T060000
END:STANDARD
END:VTIMEZONE
BEGIN:VEVENT
DTSTART;TZID=America/New_York:20240111T090000
DTEND;TZID=America/New_York:20240111T100000
DTSTAMP:20260422T210541
CREATED:20200825T194306Z
LAST-MODIFIED:20231026T193824Z
UID:1567-1704963600-1704967200@pbisvermont.org
SUMMARY:Accessing\, Completing\, and Analyzing Results of the Tiered Fidelity Inventory (TFI)\, Self-Assessment Survey (SAS)\, and School Climate Survey Webinar
DESCRIPTION:All VTPBIS Schools are asked to complete the Tiered Fidelity Inventory (TFI)\, Self-Assessment Survey (SAS)\, and/or a School Climate Survey each year (the School Climate Survey can be offered to staff\, students\, and families and can replace the SAS). This webinar will introduce each assessment tool and the Team Initiated Problem-solving (TIPS) protocol to help teams efficiently analyze their data.  Participants will learn how to access\, complete\, and analyze their results within PBIS Assessments for each assessment. Participants will also see examples of how schools present and share their data with staff\, families/caregivers\, and other partners. \nWho Should Attend: Leadership teams\, including VTPBIS School Coordinators\, Administrators\, SU/SD Coordinators\, and other Leadership Team members. \n\n\nRegister Here
URL:https://pbisvermont.org/professional-development-calendar/accessing-completing-and-analyzing-results-of-the-tfi-sas-school-climate/
LOCATION:Distance Learning\, VT\, United States
ORGANIZER;CN="Anne Dubie":MAILTO:anne.dubie@uvm.edu
END:VEVENT
END:VCALENDAR