BEGIN:VCALENDAR
VERSION:2.0
PRODID:-//VT PBIS - ECPv6.15.18//NONSGML v1.0//EN
CALSCALE:GREGORIAN
METHOD:PUBLISH
X-WR-CALNAME:VT PBIS
X-ORIGINAL-URL:https://pbisvermont.org
X-WR-CALDESC:Events for VT PBIS
REFRESH-INTERVAL;VALUE=DURATION:PT1H
X-Robots-Tag:noindex
X-PUBLISHED-TTL:PT1H
BEGIN:VTIMEZONE
TZID:America/New_York
BEGIN:DAYLIGHT
TZOFFSETFROM:-0500
TZOFFSETTO:-0400
TZNAME:EDT
DTSTART:20210314T070000
END:DAYLIGHT
BEGIN:STANDARD
TZOFFSETFROM:-0400
TZOFFSETTO:-0500
TZNAME:EST
DTSTART:20211107T060000
END:STANDARD
BEGIN:DAYLIGHT
TZOFFSETFROM:-0500
TZOFFSETTO:-0400
TZNAME:EDT
DTSTART:20220313T070000
END:DAYLIGHT
BEGIN:STANDARD
TZOFFSETFROM:-0400
TZOFFSETTO:-0500
TZNAME:EST
DTSTART:20221106T060000
END:STANDARD
BEGIN:DAYLIGHT
TZOFFSETFROM:-0500
TZOFFSETTO:-0400
TZNAME:EDT
DTSTART:20230312T070000
END:DAYLIGHT
BEGIN:STANDARD
TZOFFSETFROM:-0400
TZOFFSETTO:-0500
TZNAME:EST
DTSTART:20231105T060000
END:STANDARD
END:VTIMEZONE
BEGIN:VEVENT
DTSTART;TZID=America/New_York:20220314T083000
DTEND;TZID=America/New_York:20220314T103000
DTSTAMP:20260422T182856
CREATED:20220201T181622Z
LAST-MODIFIED:20220203T015800Z
UID:2175-1647246600-1647253800@pbisvermont.org
SUMMARY:Practical Strategies for Reducing Anxiety and Challenging Behavior in the Classroom
DESCRIPTION:Special\, One-Time Webinar!\nThis webinar will be presented live and will NOT be recorded. \n  \nDescription: \nWith up to one in four children struggling with anxiety in this country\, overwhelmed adults are in need of a new approach as well as an effective and easy-to-implement toolkit of strategies that work. \nThrough the use of case studies\, humorous stories\, and examples of common challenging situations\, participants will learn easy to implement preventive tools\, strategies\, and interventions for reducing anxiety\, increasing self-regulation\, accurate thinking\, and self-monitoring in students. \n  \nBio: \nJessica Minahan\, MEd\, BCBA\, is a licensed and board-certified behavior analyst\, special educator\, as well as a consultant to schools internationally (www.jessicaminahan.com). Jessica has over seventeen years of experience supporting students who exhibit challenging behavior in urban public school systems.  She is the co-author of The Behavior Code: A Practical Guide to Understanding and Teaching the Most Challenging Students (Harvard Education Press\, 2012) and author of The Behavior Code Companion: Strategies\, Tools\, and Interventions for Supporting Students with Anxiety-Related or Oppositional Behaviors (Harvard Education Press\, 2014). \n  \nMore information here. \n\n\nRegister Here
URL:https://pbisvermont.org/professional-development-calendar/practical-strategies-for-reducing-anxiety-and-challenging-behavior-in-the-classroom/
LOCATION:Virtual
END:VEVENT
END:VCALENDAR