BEGIN:VCALENDAR
VERSION:2.0
PRODID:-//VT PBIS - ECPv6.15.18//NONSGML v1.0//EN
CALSCALE:GREGORIAN
METHOD:PUBLISH
X-ORIGINAL-URL:https://pbisvermont.org
X-WR-CALDESC:Events for VT PBIS
REFRESH-INTERVAL;VALUE=DURATION:PT1H
X-Robots-Tag:noindex
X-PUBLISHED-TTL:PT1H
BEGIN:VTIMEZONE
TZID:America/New_York
BEGIN:DAYLIGHT
TZOFFSETFROM:-0500
TZOFFSETTO:-0400
TZNAME:EDT
DTSTART:20230312T070000
END:DAYLIGHT
BEGIN:STANDARD
TZOFFSETFROM:-0400
TZOFFSETTO:-0500
TZNAME:EST
DTSTART:20231105T060000
END:STANDARD
BEGIN:DAYLIGHT
TZOFFSETFROM:-0500
TZOFFSETTO:-0400
TZNAME:EDT
DTSTART:20240310T070000
END:DAYLIGHT
BEGIN:STANDARD
TZOFFSETFROM:-0400
TZOFFSETTO:-0500
TZNAME:EST
DTSTART:20241103T060000
END:STANDARD
BEGIN:DAYLIGHT
TZOFFSETFROM:-0500
TZOFFSETTO:-0400
TZNAME:EDT
DTSTART:20250309T070000
END:DAYLIGHT
BEGIN:STANDARD
TZOFFSETFROM:-0400
TZOFFSETTO:-0500
TZNAME:EST
DTSTART:20251102T060000
END:STANDARD
END:VTIMEZONE
BEGIN:VEVENT
DTSTART;TZID=America/New_York:20240814T090000
DTEND;TZID=America/New_York:20240814T090000
DTSTAMP:20260421T041221
CREATED:20240619T200240Z
LAST-MODIFIED:20240702T173346Z
UID:2994-1723626000-1723626000@pbisvermont.org
SUMMARY:Enhancing the Superpowers of School Administrative Assistants
DESCRIPTION:Description: School administrative assistants are likely the first people that students\, staff\, families/caregivers\, and other community members see when entering the building. On top of the day-to-day responsibilities (i.e.\, phones\, computers\, scheduling\, etc.)\, administrative assistants must effectively communicate with anyone who walks into the building. This workshop will provide an opportunity to enhance communication skills with the people they connect with all day\, every day. Relationship-building\, de-escalation\, and conflict-resolution strategies will be explored and practiced\, as well as collaborative problem-solving. \nWho Should Attend: School Administrative Assistants  \nTime: 9:00 AM –12:00 PM (8:30 AM – 9:00 AM check-in) \n  \n  \n\n\nRegister Here
URL:https://pbisvermont.org/professional-development-calendar/enhancing-the-superpowers-of-school-administrative-assistants/
CATEGORIES:Uncategorized
ORGANIZER;CN="Anne Dubie":MAILTO:anne.dubie@uvm.edu
END:VEVENT
BEGIN:VEVENT
DTSTART;TZID=America/New_York:20240822T080000
DTEND;TZID=America/New_York:20240822T160000
DTSTAMP:20260421T041221
CREATED:20240619T200740Z
LAST-MODIFIED:20240702T173239Z
UID:2995-1724313600-1724342400@pbisvermont.org
SUMMARY:Crisis Prevention Institute (CPI) Training
DESCRIPTION:Crisis Prevention Institute (CPI) Training: Full Training or Refresher Training \nThis workshop provides teams with decision-making skills to match the level of the response to the risk of a crisis\, focusing on the least-restrictive response to ensure the Care\, Welfare\, Safety\, and Security℠ of all. This includes recognizing the stages of an escalating crisis\, learning evidence-based techniques to appropriately de-escalate\, safe and non-harmful physical intervention techniques\, and creating a safer learning environment and culture of safety. \nWho should attend? Completion of the Full CPI training leads to CPI certification and is divided into two sessions (Part I and Part II). If you have already completed CPI training within the last 12 months\, there is a 3-hour CPI refresher to review CPI principles and strategies as well as opportunities for practice and problem-solving. Completion of this training will result in re-certification \nCPI (Full Training):  Completion of the Full CPI training leads to CPI certification. \nCPI (Refresher Training):  If you have already completed a Full CPI Training within the last 12 months\, there is a 3-hour CPI Refresher Training to review CPI principles and strategies as well as opportunities for practice and problem-solving. Completion of the CPI Refresher training will result in re-certification. \nTime:Full Training:  8:00 AM to 4:00 PM (8:00 – 8:30 registration) (morning refreshments and lunch included).Refresher Training:  1:00 PM to 4:00 PM (afternoon snack included). \n  \n  \n\n\nRegister Here
URL:https://pbisvermont.org/professional-development-calendar/crisis-prevention-institute-cpi/
CATEGORIES:Uncategorized
ORGANIZER;CN="Anne Dubie":MAILTO:anne.dubie@uvm.edu
END:VEVENT
BEGIN:VEVENT
DTSTART;TZID=America/New_York:20240829T130000
DTEND;TZID=America/New_York:20240829T150000
DTSTAMP:20260421T041221
CREATED:20240619T201654Z
LAST-MODIFIED:20240715T121552Z
UID:2997-1724936400-1724943600@pbisvermont.org
SUMMARY:Navigating SWIS Webinar
DESCRIPTION:Description:  This two-hour webinar is for schools that use SWIS as their data-based information system or schools interested in learning more about SWIS Features. This webinar will cover initial set-up\, data entry\, and generating individual student and school-wide graphs for decision-making. This webinar can also be a “refresher” for schools already using SWIS. \nWho Should Attend:  School Leadership Teams using SWIS should identify a few individuals to participate in this training and anyone interested in learning more about what SWIS offers. \n  \n  \n  \n\n\nRegister Here
URL:https://pbisvermont.org/professional-development-calendar/navigating-swis-webinar/
LOCATION:Distance Learning\, VT\, United States
CATEGORIES:Uncategorized
ORGANIZER;CN="Anne Dubie":MAILTO:anne.dubie@uvm.edu
END:VEVENT
END:VCALENDAR