BEGIN:VCALENDAR
VERSION:2.0
PRODID:-//VT PBIS - ECPv6.15.18//NONSGML v1.0//EN
CALSCALE:GREGORIAN
METHOD:PUBLISH
X-ORIGINAL-URL:https://pbisvermont.org
X-WR-CALDESC:Events for VT PBIS
REFRESH-INTERVAL;VALUE=DURATION:PT1H
X-Robots-Tag:noindex
X-PUBLISHED-TTL:PT1H
BEGIN:VTIMEZONE
TZID:America/New_York
BEGIN:DAYLIGHT
TZOFFSETFROM:-0500
TZOFFSETTO:-0400
TZNAME:EDT
DTSTART:20230312T070000
END:DAYLIGHT
BEGIN:STANDARD
TZOFFSETFROM:-0400
TZOFFSETTO:-0500
TZNAME:EST
DTSTART:20231105T060000
END:STANDARD
BEGIN:DAYLIGHT
TZOFFSETFROM:-0500
TZOFFSETTO:-0400
TZNAME:EDT
DTSTART:20240310T070000
END:DAYLIGHT
BEGIN:STANDARD
TZOFFSETFROM:-0400
TZOFFSETTO:-0500
TZNAME:EST
DTSTART:20241103T060000
END:STANDARD
BEGIN:DAYLIGHT
TZOFFSETFROM:-0500
TZOFFSETTO:-0400
TZNAME:EDT
DTSTART:20250309T070000
END:DAYLIGHT
BEGIN:STANDARD
TZOFFSETFROM:-0400
TZOFFSETTO:-0500
TZNAME:EST
DTSTART:20251102T060000
END:STANDARD
END:VTIMEZONE
BEGIN:VEVENT
DTSTART;TZID=America/New_York:20240905T090000
DTEND;TZID=America/New_York:20240905T220000
DTSTAMP:20260421T023918
CREATED:20240619T201949Z
LAST-MODIFIED:20240702T172907Z
UID:2998-1725526800-1725573600@pbisvermont.org
SUMMARY:VTPBIS Coordinators “Welcome Back” Webinar
DESCRIPTION:Description: This interactive webinar will provide School and SU/SD Coordinators with helpful tools and strategies to launch a successful PBIS school year! This webinar will focus on intentionally building equity into PBIS\, identifying strategies to maintain staff ownership (buy-in)\, and providing an overview of the role of the coordinator. Participants will have time to collaborate with other Coordinators\, share ideas\, and ask questions. \nWho Should Attend: While all coordinators are welcome\, this webinar is particularly beneficial for new VTPBIS SU/SD and School Coordinators. \nTime: 9:00 AM –10:00 AM \n  \n  \n\n\nRegister Here
URL:https://pbisvermont.org/professional-development-calendar/vtpbis-coordinators-welcome-back-webinar/
LOCATION:Distance Learning\, VT\, United States
CATEGORIES:Uncategorized
ORGANIZER;CN="Anne Dubie":MAILTO:anne.dubie@uvm.edu
END:VEVENT
BEGIN:VEVENT
DTSTART;TZID=America/New_York:20240912T090000
DTEND;TZID=America/New_York:20240912T100000
DTSTAMP:20260421T023918
CREATED:20240619T202122Z
LAST-MODIFIED:20240702T172749Z
UID:2999-1726131600-1726135200@pbisvermont.org
SUMMARY:What's New in PBIS Webinar
DESCRIPTION:Description: Are you interested in learning about PBIS? Are you a new staff member working in a school implementing PBIS? Are you looking for a quick refresher on PBIS features? If so\, this is the webinar for you! This webinar will provide a comprehensive overview of the systems\, data\, and practices within a PBIS framework to ensure equitable and culturally responsive outcomes for all. Participants will learn about the essential features of PBIS\, including expectations/agreements\, teaching and practicing prosocial behaviors\, acknowledging and providing feedback on prosocial behavior\, procedures for preventing and responding instructionally to interfering behavior\, and using data for decision-making. \nWho Should Attend: Anyone interested in learning about PBIS. \nTime: 9:00 AM – 10:00 AM. \n  \n  \n\n\nRegister Here
URL:https://pbisvermont.org/professional-development-calendar/whats-new-in-pbis-webinar/
LOCATION:Distance Learning\, VT\, United States
CATEGORIES:Uncategorized
ORGANIZER;CN="Anne Dubie":MAILTO:anne.dubie@uvm.edu
END:VEVENT
BEGIN:VEVENT
DTSTART;TZID=America/New_York:20240917T090000
DTEND;TZID=America/New_York:20240917T100000
DTSTAMP:20260421T023918
CREATED:20240619T202250Z
LAST-MODIFIED:20240702T172527Z
UID:3000-1726563600-1726567200@pbisvermont.org
SUMMARY:Navigating SWIS-CICO Webinar
DESCRIPTION:Description:  This one-hour webinar is for schools that use CICO-SWIS as their system for entering student data as part of their Check-in Check-out program. Participants will learn how to enroll students\, set up daily progress reports\, determine student goals\, and generate reports to monitor student progress and improve interventions. School teams or individuals interested in learning more about CICO-SWIS are welcome to attend. \nWho Should Attend:  Any school personnel who use (or are interested in exploring) CICO-SWIS. \nTime:  Monday\, September 18\, 2023\, 9:00 AM – 10:00 AM. \n  \n  \n\n\nRegister Here\n\n 
URL:https://pbisvermont.org/professional-development-calendar/navigating-swis-cico-webinar/
LOCATION:Distance Learning\, VT\, United States
CATEGORIES:Uncategorized
ORGANIZER;CN="Anne Dubie":MAILTO:anne.dubie@uvm.edu
END:VEVENT
END:VCALENDAR