BEGIN:VCALENDAR
VERSION:2.0
PRODID:-//VT PBIS - ECPv6.15.18//NONSGML v1.0//EN
CALSCALE:GREGORIAN
METHOD:PUBLISH
X-ORIGINAL-URL:https://pbisvermont.org
X-WR-CALDESC:Events for VT PBIS
REFRESH-INTERVAL;VALUE=DURATION:PT1H
X-Robots-Tag:noindex
X-PUBLISHED-TTL:PT1H
BEGIN:VTIMEZONE
TZID:America/New_York
BEGIN:DAYLIGHT
TZOFFSETFROM:-0500
TZOFFSETTO:-0400
TZNAME:EDT
DTSTART:20230312T070000
END:DAYLIGHT
BEGIN:STANDARD
TZOFFSETFROM:-0400
TZOFFSETTO:-0500
TZNAME:EST
DTSTART:20231105T060000
END:STANDARD
BEGIN:DAYLIGHT
TZOFFSETFROM:-0500
TZOFFSETTO:-0400
TZNAME:EDT
DTSTART:20240310T070000
END:DAYLIGHT
BEGIN:STANDARD
TZOFFSETFROM:-0400
TZOFFSETTO:-0500
TZNAME:EST
DTSTART:20241103T060000
END:STANDARD
BEGIN:DAYLIGHT
TZOFFSETFROM:-0500
TZOFFSETTO:-0400
TZNAME:EDT
DTSTART:20250309T070000
END:DAYLIGHT
BEGIN:STANDARD
TZOFFSETFROM:-0400
TZOFFSETTO:-0500
TZNAME:EST
DTSTART:20251102T060000
END:STANDARD
END:VTIMEZONE
BEGIN:VEVENT
DTSTART;TZID=America/New_York:20241016T083000
DTEND;TZID=America/New_York:20241016T153000
DTSTAMP:20260421T005922
CREATED:20220801T190303Z
LAST-MODIFIED:20240905T180736Z
UID:2427-1729067400-1729092600@pbisvermont.org
SUMMARY:2024 Annual VTPBIS Forum
DESCRIPTION:Join us at the Killington Grand Resort for the Annual VTPBIS Forum to learn\, share\, and celebrate together.  \nOctober 16\, 2024\, 8:30 – 3:30 (8:30 – 9:00 check-in). Breakfast and lunch will be served. \nWho should attend: School teams or individuals who are looking to learn more about social\, emotional\, behavioral\, and mental health supports within the PBIS framework\, and schools that are interested in exploring PBIS implementation are all welcome to attend. \n\n\nRegister Here\n\n 
URL:https://pbisvermont.org/professional-development-calendar/2024-annual-vtpbis-forum/
ORGANIZER;CN="Anne Dubie":MAILTO:anne.dubie@uvm.edu
END:VEVENT
BEGIN:VEVENT
DTSTART;TZID=America/New_York:20241022T090000
DTEND;TZID=America/New_York:20241022T110000
DTSTAMP:20260421T005922
CREATED:20240809T174757Z
LAST-MODIFIED:20241018T182739Z
UID:3051-1729587600-1729594800@pbisvermont.org
SUMMARY:Webinar: Tackling Absenteeism Through Student Engagement
DESCRIPTION:Chronic absenteeism – students missing 10% or more of school – emerged as a serious challenge during the COVID-19 pandemic due to school closures and continues to persist today. This webinar will provide strategies and resources to prevent and address absenteeism\, including: \n\nDefining a problem-solving process that will get to the root causes of absenteeism and lead to more precise and effective solutions\nSharing solutions connected to absenteeism\, such as:\n\n\nA sense of safety\nBelonging and connection\nPurpose and motivation\nMental health/physical health\nPeer influence\nFamily\nProviding a wealth of resources to support action planning to prevent and address chronic absenteeism.\n\nWho Should Attend: \nAdministrators\, Special Education Directors\, School Counselors\, Home-School Liaisons\, Crisis Response Teams\, and other school personnel. \n\nRegister Here
URL:https://pbisvermont.org/professional-development-calendar/webinar-tackling-absenteeism-through-student-engagement/
LOCATION:Distance Learning\, VT\, United States
ORGANIZER;CN="Anne Dubie":MAILTO:anne.dubie@uvm.edu
END:VEVENT
END:VCALENDAR